BEGIN:VCALENDAR
VERSION:2.0
PRODID:-//Campbell Rhododendron Gardens, Blackheath - ECPv5.3.2.1//NONSGML v1.0//EN
CALSCALE:GREGORIAN
METHOD:PUBLISH
X-WR-CALNAME:Campbell Rhododendron Gardens, Blackheath
X-ORIGINAL-URL:https://rhodogarden.org.au
X-WR-CALDESC:Events for Campbell Rhododendron Gardens, Blackheath
BEGIN:VTIMEZONE
TZID:Australia/Sydney
BEGIN:STANDARD
TZOFFSETFROM:+1100
TZOFFSETTO:+1000
TZNAME:AEST
DTSTART:20210403T160000
END:STANDARD
BEGIN:DAYLIGHT
TZOFFSETFROM:+1000
TZOFFSETTO:+1100
TZNAME:AEDT
DTSTART:20211002T160000
END:DAYLIGHT
END:VTIMEZONE
BEGIN:VEVENT
DTSTART;TZID=Australia/Sydney:20210425T103000
DTEND;TZID=Australia/Sydney:20210425T234000
DTSTAMP:20210226T193600
CREATED:20201208T052357Z
LAST-MODIFIED:20210221T014947Z
UID:4644-1619346600-1619394000@rhodogarden.org.au
SUMMARY:ARCADIA WINDS | The Air I Breathe
DESCRIPTION:CAPTIVATING FAMILY FUN:  ‘The Air I Breathe’ is a delightful performance for children from kindergarten through to year-8\, and it will charm adults of all ages.\nWith a clarinet\, a bassoon and flute\, Arcadia Winds magically conjure up a rainy day in bed\, a fairytale world beyond imagination\, the god of the East Wind\, and a steaming locomotive.  It’s a truly dazzling display of virtuosity.  Young audiences (older ones too if they are willing) then learn how to master their own breath and use it as a creative and life-affirming force.  Presented in association with Musica Viva Australia. \nTickets: $10.00 for Children and Adults.\nSpecial School Offer: $10.00 for Children\, plus a Teacher/Adult Free Ticket for each group of 15 children.  Booking essential due to demand.\nThere will be some seating\, but bring a rug and cushions if you wish\, or your own chair.\n[In the event of rain\, the performance will move to Phillips Hall and ticket holders will be notified]  \nARTISTS\nKiran Phatak: Flute\nLloyd Van’t Hoff: Clarinet\nMatthew Kneale: Bassoon \nPROGRAM\nThe Air I Breathe \n(Separate booking required. Not included in Festival Packages)\nNB: There is no interval due to Covid restrictions \nShareTweetPinShare0 Shares
URL:https://rhodogarden.org.au/event/arcadia-winds-the-air-i-breathe-presented-in-association-with-musica-viva-australia/
LOCATION:Campbell Rhododendron Gardens\, Bacchante Street\, Blackheath\, NSW\, 2785\, Australia
CATEGORIES:Music Festival
ATTACH;FMTTYPE=image/jpeg:https://rhodogarden.org.au/wp-content/uploads/2020/12/6-ARCADIA-Winds_AIR.jpg
END:VEVENT
END:VCALENDAR