BEGIN:VCALENDAR
VERSION:2.0
PRODID:-//Campbell Rhododendron Gardens, Blackheath - ECPv5.3.2.1//NONSGML v1.0//EN
CALSCALE:GREGORIAN
METHOD:PUBLISH
X-WR-CALNAME:Campbell Rhododendron Gardens, Blackheath
X-ORIGINAL-URL:https://rhodogarden.org.au
X-WR-CALDESC:Events for Campbell Rhododendron Gardens, Blackheath
BEGIN:VTIMEZONE
TZID:Australia/Sydney
BEGIN:STANDARD
TZOFFSETFROM:+1100
TZOFFSETTO:+1000
TZNAME:AEST
DTSTART:20210403T160000
END:STANDARD
BEGIN:DAYLIGHT
TZOFFSETFROM:+1000
TZOFFSETTO:+1100
TZNAME:AEDT
DTSTART:20211002T160000
END:DAYLIGHT
END:VTIMEZONE
BEGIN:VEVENT
DTSTART;TZID=Australia/Sydney:20210423T143000
DTEND;TZID=Australia/Sydney:20210423T154500
DTSTAMP:20210226T173013
CREATED:20201124T034543Z
LAST-MODIFIED:20210223T003249Z
UID:4547-1619188200-1619192700@rhodogarden.org.au
SUMMARY:FØNIX | Stahmer\, Stormer and a Sonata
DESCRIPTION:FØNIX:  A Talented Young Trio Emerges\, comprising James Fortune\, who has played the flute and piccolo for Opera Australia Orchestra for over 20 years\, Tommasso Girotto\, an exciting young guitarist\, and Margie Iddison\, a cellist\, formerly with Opera Australia Orchestra.  (Simon Harker is not able to perform at this recital\, hence the name-change.)As part of their program\, the trio will perform a world premiere composition\, ‘Hark’ by Wesley Stormer.  Stormer often takes inspiration from the motifs and rich harmony of early 20th century French music\, and another of his new orchestral work\, ‘Awakening & Dance’\, will be premiered with the Penrith Symphony Orchestra in May this year\, conducted by Paul Terracini.  Recently\, one of Stormer’s orchestral works was performed on the west coast of the USA and another is a finalist in a competition due to be played in America later this year by North State Symphony.   \nARTISTSJames Fortune: FluteTommasso Girotto: GuitarMargie Iddison: Cello \nPROGRAMGerhard Maasz | Suite for flute\, guitar and cello | 8 minKlaus Hinrich Stahmer | Debussyana (1983)\,  for flute\, guitar and cello | 5 minWesley Stormer | Hark (2021)\, for flute\, guitar and cello (a world premiere performance) | 8 minHeitor Villa-Lobos | Assobio a Jato (1950)\,  for flute and cello | 7 minStephen Dodgson | Pastoral Sonata (1952)\,  for flute\, guitar and cello | 17 min \nNB: There is no interval due to Covid restrictions \n  \n\n\n\n\n\n\n\n\nShareTweetPinShare0 Shares
URL:https://rhodogarden.org.au/event/harker-ensemble/
LOCATION:Phillips Hall\, 41 Gardiner Crescent\, Blackheath\, NSW\, 2785\, Australia
CATEGORIES:Music Festival
ATTACH;FMTTYPE=image/jpeg:https://rhodogarden.org.au/wp-content/uploads/2021/02/HarkerES-01.jpg
END:VEVENT
END:VCALENDAR