BEGIN:VCALENDAR
VERSION:2.0
PRODID:-//Campbell Rhododendron Gardens, Blackheath - ECPv5.3.2.1//NONSGML v1.0//EN
CALSCALE:GREGORIAN
METHOD:PUBLISH
X-WR-CALNAME:Campbell Rhododendron Gardens, Blackheath
X-ORIGINAL-URL:https://rhodogarden.org.au
X-WR-CALDESC:Events for Campbell Rhododendron Gardens, Blackheath
BEGIN:VTIMEZONE
TZID:Australia/Sydney
BEGIN:STANDARD
TZOFFSETFROM:+1100
TZOFFSETTO:+1000
TZNAME:AEST
DTSTART:20210403T160000
END:STANDARD
BEGIN:DAYLIGHT
TZOFFSETFROM:+1000
TZOFFSETTO:+1100
TZNAME:AEDT
DTSTART:20211002T160000
END:DAYLIGHT
END:VTIMEZONE
BEGIN:VEVENT
DTSTART;TZID=Australia/Sydney:20210716T193000
DTEND;TZID=Australia/Sydney:20210716T203000
DTSTAMP:20210226T184518
CREATED:20201208T060428Z
LAST-MODIFIED:20210208T111223Z
UID:4663-1626463800-1626467400@rhodogarden.org.au
SUMMARY:LIOR & TINALLEY STRING QUARTET & guests perform Nigel Westlake’s Aria award winning ‘COMPASSION’
DESCRIPTION:HEARTBREAKINGLY BEAUTIFUL: a ‘Festival Special Program’ in July\, presented in association with Musica Viva Australia.  A symphony of songs of love\, loss and compassion that unites the soulful beauty of LIOR’s voice with the radiance and vivid drama of Nigel Westlake’s orchestral style.  ‘Compassion’ is a poetic and highly emotional work\, counted among Westlake’s finest.\nPerformed by an octet comprising some of Australia’s best ensemble musicians\, this unique collaboration celebrates the importance of music as a poignant means of communication as the world searches for compassion and understanding.   \n‘COMPASSION’ (2012) | arranged for chamber ensemble\nI         Sim Shalom\nII       Eize Hu Chacham?\nIII      La Yu’minu\nIV      Inna Rifqa\nV       Al Takshu L’vavchem\nVI     Ma Wadani Ahadun\nVII    Avinu Malkeinu \nNB: There is no interval due to Covid restrictions \n   \nShareTweetPinShare0 Shares
URL:https://rhodogarden.org.au/event/lior-tinalley-string-quartet-guests-perform-nigel-westlakes-aria-award-winning-compassion/
LOCATION:Phillips Hall\, 41 Gardiner Crescent\, Blackheath\, NSW\, 2785\, Australia
CATEGORIES:Music Festival
ATTACH;FMTTYPE=image/jpeg:https://rhodogarden.org.au/wp-content/uploads/2020/12/10-COMPASSION-Lior-Tinalley.jpg
END:VEVENT
END:VCALENDAR